BEGIN:VCALENDAR
VERSION:2.0
PRODID:-//CEEI Valencia//EmprenemJunts//ES
BEGIN:VEVENT
UID:Evento_24688
DTSTAMP:20250327T095449Z
DTSTART:20250401T140000Z
DTEND:20250401T150000Z
SUMMARY:WEBINAR: IA, Datos y Ventas:
DESCRIPTION:La Nueva Fórmula del Éxito.
LOCATION:
URL:https://ceeivalencia.emprenemjunts.es/?op=14&n=24688
END:VEVENT
END:VCALENDAR
