BEGIN:VCALENDAR
VERSION:2.0
PRODID:-//CEEI Valencia//EmprenemJunts//ES
BEGIN:VEVENT
UID:Evento_24755
DTSTAMP:20250414T065933Z
DTSTART:20250430T073000Z
DTEND:20250514T123000Z
SUMMARY:Taller Plan económico financiero para tu proyecto emprendedor y nociones básicas de fiscalidad
DESCRIPTION:Programa Desarrollo del talento emprendedor
LOCATION:Gandia (Valencia)
URL:https://ceeivalencia.emprenemjunts.es/?op=14&n=24755
GEO:38.964405;-0.181937
END:VEVENT
END:VCALENDAR
