BEGIN:VCALENDAR
VERSION:2.0
PRODID:-//CEEI Valencia//EmprenemJunts//ES
BEGIN:VEVENT
UID:Evento_25086
DTSTAMP:20250626T091944Z
DTSTART:20250703T063000Z
DTEND:20250703T080000Z
SUMMARY:Taller WhatsApp Business, tot en un per al comerç local. Alzira
DESCRIPTION:Vols millorar la comunicació amb els teus clients i fer créixer el teu negoci des del mòbil?
LOCATION:Alzira (Valencia)
URL:https://ceeivalencia.emprenemjunts.es/?op=14&n=25086
GEO:39.150543;-0.440539
END:VEVENT
END:VCALENDAR
