BEGIN:VCALENDAR
VERSION:2.0
PRODID:-//CEEI Elche//EmprenemJunts//ES
BEGIN:VEVENT
UID:Evento_25160
DTSTAMP:20250714T154734Z
DTSTART:20250722T160000Z
DTEND:20250722T180000Z
SUMMARY:Speed Networking Online Zona Alicante
DESCRIPTION:¿Eres empresari@, emprendedor@ o profesional en la provincia de Alicante con un negocio en marcha? Entonces este evento es para ti.
LOCATION:
URL:https://ceeielche.emprenemjunts.es/?op=14&n=25160
END:VEVENT
END:VCALENDAR
