BEGIN:VCALENDAR
VERSION:2.0
PRODID:-//CEEI Elche//EmprenemJunts//ES
BEGIN:VEVENT
UID:Evento_25167
DTSTAMP:20250722T072040Z
DTSTART:20250929T143000Z
DTEND:20250929T173000Z
SUMMARY:La importancia de cualificar los contactos internacionales
DESCRIPTION:En este taller aprenderás a identificar y cualificar a aquellos clientes internacionales que mejor valoren la propuesta diferenciadora de tu proyecto
LOCATION:Elx/Elche (Alicante)
URL:https://ceeielche.emprenemjunts.es/?op=14&n=25167
END:VEVENT
END:VCALENDAR
