BEGIN:VCALENDAR
VERSION:2.0
PRODID:-//CEEI Elche//EmprenemJunts//ES
BEGIN:VEVENT
UID:Evento_25178
DTSTAMP:20250724T144404Z
DTSTART:20250807T100000Z
DTEND:20250807T113000Z
SUMMARY:Speed Networking Online Zona Alicante
DESCRIPTION:¿Eres empresari@, emprendedor@ o profesional con un negocio en marcha? Entonces este evento es para ti.
LOCATION:
URL:https://ceeielche.emprenemjunts.es/?op=14&n=25178
END:VEVENT
END:VCALENDAR
