BEGIN:VCALENDAR
VERSION:2.0
PRODID:-//CEEI Castellón//EmprenemJunts//ES
BEGIN:VEVENT
UID:Evento_25180
DTSTAMP:20250725T120209Z
DTSTART:20250726T170000Z
DTEND:20250726T210000Z
SUMMARY:CÃ lig - Arrels amb memÃ²ria.
DESCRIPTION:Visita guiada a pie por el Maestrat.
LOCATION:CÃ lig (CastellÃ³n)
URL:https://ceeicastellon.emprenemjunts.es/?op=14&n=25180
END:VEVENT
END:VCALENDAR
