BEGIN:VCALENDAR
VERSION:2.0
PRODID:-//CEEI Castellón//EmprenemJunts//ES
BEGIN:VEVENT
UID:Evento_25187
DTSTAMP:20250729T082222Z
DTSTART:20250810T170000Z
DTEND:20250810T210000Z
SUMMARY:Sant Rafael del Riu - Terres de frontera
DESCRIPTION:Visita guiada a pie por el Maestrat
LOCATION:San Rafael del RÃ­o (CastellÃ³n)
URL:https://ceeicastellon.emprenemjunts.es/?op=14&n=25187
END:VEVENT
END:VCALENDAR
