BEGIN:VCALENDAR
VERSION:2.0
PRODID:-//CEEI Alcoy//EmprenemJunts//ES
BEGIN:VEVENT
UID:Evento_25189
DTSTAMP:20250729T104333Z
DTSTART:20250910T070000Z
DTEND:20250910T093000Z
SUMMARY:Vende el doble con la IA (o deja que tu competencia lo haga)
DESCRIPTION:
LOCATION:Ontinyent (Valencia)
URL:https://ceeialcoi.emprenemjunts.es/?op=14&n=25189
GEO:38.826611;-0.589754
END:VEVENT
END:VCALENDAR
