BEGIN:VCALENDAR
VERSION:2.0
PRODID:-//CEEI Valencia//EmprenemJunts//ES
BEGIN:VEVENT
UID:Evento_25203
DTSTAMP:20250805T124121Z
DTSTART:20251030T084500Z
DTEND:20251030T090000Z
SUMMARY:Apertura de puertas y acreditaciones
DESCRIPTION:
LOCATION:Paterna (Valencia)
URL:https://ceeivalencia.emprenemjunts.es/?op=14&n=25203
GEO:39.548115;-0.460775
END:VEVENT
END:VCALENDAR
