BEGIN:VCALENDAR
VERSION:2.0
PRODID:-//CEEI Valencia//EmprenemJunts//ES
BEGIN:VEVENT
UID:Evento_25206
DTSTAMP:20250805T124356Z
DTSTART:20251030T103000Z
DTEND:20251030T110000Z
SUMMARY:El poder del rural: cómo convertir el territorio en reclamo
DESCRIPTION:
LOCATION:Paterna (Valencia)
URL:https://ceeivalencia.emprenemjunts.es/?op=14&n=25206
GEO:39.548115;-0.460775
END:VEVENT
END:VCALENDAR
