BEGIN:VCALENDAR
VERSION:2.0
PRODID:-//CEEI Valencia//EmprenemJunts//ES
BEGIN:VEVENT
UID:Evento_25207
DTSTAMP:20250805T124422Z
DTSTART:20251030T110000Z
DTEND:20251030T113000Z
SUMMARY:Vino con sello local y proyección global
DESCRIPTION:
LOCATION:Paterna (Valencia)
URL:https://ceeivalencia.emprenemjunts.es/?op=14&n=25207
GEO:39.548115;-0.460775
END:VEVENT
END:VCALENDAR
