BEGIN:VCALENDAR
VERSION:2.0
PRODID:-//CEEI Alcoy//EmprenemJunts//ES
BEGIN:VEVENT
UID:Evento_25315
DTSTAMP:20250909T081804Z
DTSTART:20251021T153000Z
DTEND:20251021T190000Z
SUMMARY:40 aniversario AITEX
DESCRIPTION:Conferencia de Gustavo Zerbino, superviviente de la tragedia de los Andes \"Liderar cuando no hay mapa\" | 21 de octubre en Alcoy
LOCATION:Alcoi/Alcoy (Alicante)
URL:https://ceeialcoi.emprenemjunts.es/?op=14&n=25315
GEO:38.698101;-0.472785
END:VEVENT
END:VCALENDAR
