BEGIN:VCALENDAR
VERSION:2.0
PRODID:-//CEEI Valencia//EmprenemJunts//ES
BEGIN:VEVENT
UID:Evento_25331
DTSTAMP:20250912T082552Z
DTSTART:20250924T150000Z
DTEND:20250924T163000Z
SUMMARY:Cómo el branding puede hacer crecer tu Startup
DESCRIPTION:La 2ª edicón de Scale Your Brand llega el 24 de septiembre
LOCATION:Valencia (Valencia)
URL:https://ceeivalencia.emprenemjunts.es/?op=14&n=25331
GEO:39.458679;-0.338276
END:VEVENT
END:VCALENDAR
