BEGIN:VCALENDAR
VERSION:2.0
PRODID:-//CEEI Valencia//EmprenemJunts//ES
BEGIN:VEVENT
UID:Evento_25663
DTSTAMP:20251105T150956Z
DTSTART:20251128T090000Z
DTEND:20251128T103000Z
SUMMARY:Transforma tu idea en un negocio global en Requena
DESCRIPTION:
LOCATION:Requena (Valencia)
URL:https://ceeivalencia.emprenemjunts.es/?op=14&n=25663
GEO:39.488258;-1.101583
END:VEVENT
END:VCALENDAR
