BEGIN:VCALENDAR
VERSION:2.0
PRODID:-//CEEI Valencia//EmprenemJunts//ES
BEGIN:VEVENT
UID:Evento_25680
DTSTAMP:20251107T131622Z
DTSTART:20251127T090000Z
DTEND:20251127T103000Z
SUMMARY:Transforma tu idea en un negocio global en Aras de los Olmos
DESCRIPTION:
LOCATION:Aras de los Olmos (Valencia)
URL:https://ceeivalencia.emprenemjunts.es/?op=14&n=25680
GEO:39.921627;-1.135852
END:VEVENT
END:VCALENDAR
