BEGIN:VCALENDAR
VERSION:2.0
PRODID:-//CEEI Valencia//EmprenemJunts//ES
BEGIN:VEVENT
UID:Evento_25710
DTSTAMP:20251112T114403Z
DTSTART:20251125T170000Z
DTEND:20251125T200000Z
SUMMARY:Gala XIX Edición Premios IDEAS UPV
DESCRIPTION:Conectando el emprendimiento, impulsando el futuro. El 25 de noviembre en Valencia
LOCATION:Valencia (Valencia)
URL:https://ceeivalencia.emprenemjunts.es/?op=14&n=25710
GEO:39.477245;-0.334020
END:VEVENT
END:VCALENDAR
