BEGIN:VCALENDAR
VERSION:2.0
PRODID:-//CEEI Valencia//EmprenemJunts//ES
BEGIN:VEVENT
UID:Evento_25713
DTSTAMP:20251113T080647Z
DTSTART:20251127T080000Z
DTEND:20251127T123000Z
SUMMARY:TERRITORIOS EN BETA. DE LOS DESAFÍOS COMPARTIDOS A LAS IDEAS QUE SORPRENDEN
DESCRIPTION:Un encuentro para territorios, empresas, administraciones y agentes sociales que buscan nuevas respuestas a los desafíos comunes
LOCATION:Gandia (Valencia)
URL:https://ceeivalencia.emprenemjunts.es/?op=14&n=25713
GEO:38.964405;-0.181937
END:VEVENT
END:VCALENDAR
