BEGIN:VCALENDAR
VERSION:2.0
PRODID:-//CEEI Castellón//EmprenemJunts//ES
BEGIN:VEVENT
UID:Evento_25811
DTSTAMP:20251128T113118Z
DTSTART:20251213T090000Z
DTEND:20251213T140000Z
SUMMARY:Encuentro Solidario de Invierno Palancia y Mijares
DESCRIPTION:MÃºsica en directo, talleres, presentaciÃ³n de libro, quinto y tapa... Ven a pasar una maÃ±ana divertida para compartir, colaborar y conectar proyectos.
LOCATION:Segorbe (CastellÃ³n)
URL:https://ceeicastellon.emprenemjunts.es/?op=14&n=25811
END:VEVENT
END:VCALENDAR
