BEGIN:VCALENDAR
VERSION:2.0
PRODID:-//CEEI Elche//EmprenemJunts//ES
BEGIN:VEVENT
UID:Evento_25849
DTSTAMP:20251209T074157Z
DTSTART:20251216T150000Z
DTEND:20251216T163000Z
SUMMARY:Alfabetización informática para pymes y autónomos
DESCRIPTION:Fórmate en competencias digitales básicas para tu empresa 
LOCATION:Orihuela (Alicante)
URL:https://ceeielche.emprenemjunts.es/?op=14&n=25849
GEO:38.078655;-0.947070
END:VEVENT
END:VCALENDAR
