BEGIN:VCALENDAR
VERSION:2.0
PRODID:-//CEEI Elche//EmprenemJunts//ES
BEGIN:VEVENT
UID:Evento_25869
DTSTAMP:20251212T095546Z
DTSTART:20251219T083000Z
DTEND:20251219T130000Z
SUMMARY:New Food 2025
DESCRIPTION:La iniciativa New Food está organizada por profesores de la Escuela Politécnica Superior de Orihuela (EPSO) de la UMH y por el PCUMH
LOCATION:Orihuela (Alicante)
URL:https://ceeielche.emprenemjunts.es/?op=14&n=25869
GEO:38.082138;-0.947383
END:VEVENT
END:VCALENDAR
