BEGIN:VCALENDAR
VERSION:2.0
PRODID:-//CEEI Alcoy//EmprenemJunts//ES
BEGIN:VEVENT
UID:Evento_25877
DTSTAMP:20251216T122731Z
DTSTART:20260120T143000Z
DTEND:20260120T153000Z
SUMMARY:Aprende ChatGPT y automatización con n8n
DESCRIPTION:
LOCATION:Ibi (Alicante)
URL:https://ceeialcoi.emprenemjunts.es/?op=14&n=25877
GEO:38.625496;-0.569486
END:VEVENT
END:VCALENDAR
