BEGIN:VCALENDAR
VERSION:2.0
PRODID:-//CEEI Valencia//EmprenemJunts//ES
BEGIN:VEVENT
UID:Evento_26067
DTSTAMP:20260127T111805Z
DTSTART:20260303T090000Z
DTEND:20260303T103000Z
SUMMARY:Transforma tu idea en un negocio global en Higueruelas
DESCRIPTION:
LOCATION:Higueruelas (Valencia)
URL:https://ceeivalencia.emprenemjunts.es/?op=14&n=26067
GEO:39.789295;-0.862905
END:VEVENT
END:VCALENDAR
