BEGIN:VCALENDAR
VERSION:2.0
PRODID:-//CEEI Alcoy//EmprenemJunts//ES
BEGIN:VEVENT
UID:Evento_26093
DTSTAMP:20260128T105325Z
DTSTART:20260211T083000Z
DTEND:20260211T110000Z
SUMMARY:DIGITALIZA 2026: IA, financiación y talento en la empresa
DESCRIPTION:El 11 de febrero en Ibi
LOCATION:Valencia (Valencia)
URL:https://ceeialcoi.emprenemjunts.es/?op=14&n=26093
GEO:38.625664;-0.568622
END:VEVENT
END:VCALENDAR
