BEGIN:VCALENDAR
VERSION:2.0
PRODID:-//CEEI Elche//EmprenemJunts//ES
BEGIN:VEVENT
UID:Evento_26143
DTSTAMP:20260203T113621Z
DTSTART:20260303T090000Z
DTEND:20260303T130000Z
SUMMARY:El ROI de la innovación: medir el impacto en el negocio
DESCRIPTION:Dirigida a equipos directivos y líderes empresariales
LOCATION:
URL:https://ceeielche.emprenemjunts.es/?op=14&n=26143
END:VEVENT
END:VCALENDAR
