BEGIN:VCALENDAR
VERSION:2.0
PRODID:-//CEEI Elche//EmprenemJunts//ES
BEGIN:VEVENT
UID:Evento_26144
DTSTAMP:20260203T113944Z
DTSTART:20260304T090000Z
DTEND:20260304T130000Z
SUMMARY:Branding de impacto para tu posicionamiento
DESCRIPTION:Dirigida a equipos directivos y líderes empresariales
LOCATION:
URL:https://ceeielche.emprenemjunts.es/?op=14&n=26144
END:VEVENT
END:VCALENDAR
