BEGIN:VCALENDAR
VERSION:2.0
PRODID:-//Europa//EmprenemJunts//ES
BEGIN:VEVENT
UID:Evento_26152
DTSTAMP:20260204T120018Z
DTSTART:20260615T070000Z
DTEND:20260618T130500Z
SUMMARY:HLTH Europe 2026
DESCRIPTION:Aumenta la visibilidad de tus soluciones tecnológicas en el evento de ehealth más relevante de Europa
LOCATION:Ámsterdam, Países Bajos
URL:https://europa.emprenemjunts.es/?op=14&n=26152
GEO:52.341194;4.888616
END:VEVENT
END:VCALENDAR
