BEGIN:VCALENDAR
VERSION:2.0
PRODID:-//CEEI Elche//EmprenemJunts//ES
BEGIN:VEVENT
UID:Evento_26177
DTSTAMP:20260206T133335Z
DTSTART:20260226T150000Z
DTEND:20260226T170000Z
SUMMARY:Workshop 6 - Fundamentos de la inteligencia en la empresa
DESCRIPTION:
LOCATION:
URL:https://ceeielche.emprenemjunts.es/?op=14&n=26177
END:VEVENT
END:VCALENDAR
