BEGIN:VCALENDAR
VERSION:2.0
PRODID:-//CEEI Alcoy//EmprenemJunts//ES
BEGIN:VEVENT
UID:Evento_26232
DTSTAMP:20260217T095646Z
DTSTART:20260313T083000Z
DTEND:20260313T113000Z
SUMMARY:XI Jornada Desafío CEO: Lo que (pre)ocupa a un CEO sobre la mesa
DESCRIPTION:El 13 de marzo en Castalla
LOCATION:Castalla (Alicante)
URL:https://ceeialcoi.emprenemjunts.es/?op=14&n=26232
GEO:38.606770;-0.661640
END:VEVENT
END:VCALENDAR
