BEGIN:VCALENDAR
VERSION:2.0
PRODID:-//CEEI Valencia//EmprenemJunts//ES
BEGIN:VEVENT
UID:Evento_26239
DTSTAMP:20260218T152231Z
DTSTART:20260512T150000Z
DTEND:20260512T170000Z
SUMMARY:DTarde con...  Boro Mas, CEO de GPTadvisor
DESCRIPTION:El encuentro de personas empresarias con referentes de grandes compañías
LOCATION:Valencia (Valencia)
URL:https://ceeivalencia.emprenemjunts.es/?op=14&n=26239
GEO:39.459293;-0.331269
END:VEVENT
END:VCALENDAR
