BEGIN:VCALENDAR
VERSION:2.0
PRODID:-//CEEI Elche//EmprenemJunts//ES
BEGIN:VEVENT
UID:Evento_26258
DTSTAMP:20260223T115001Z
DTSTART:20260327T100000Z
DTEND:20260327T120000Z
SUMMARY:Jornada de puertas abiertas 2026: descubre los espacios de innovación del PCUMH
DESCRIPTION:El objetivo es dar a conocer a investigadores, empresas, sociedad civil y administración pública de los espacios ubicados en el PCUMH
LOCATION:Elx/Elche (Alicante)
URL:https://ceeielche.emprenemjunts.es/?op=14&n=26258
GEO:38.278866;-0.689442
END:VEVENT
END:VCALENDAR
