BEGIN:VCALENDAR
VERSION:2.0
PRODID:-//CEEI Valencia//EmprenemJunts//ES
BEGIN:VEVENT
UID:Evento_26320
DTSTAMP:20260305T083530Z
DTSTART:20260420T080000Z
DTEND:20260420T093000Z
SUMMARY:Transforma tu idea en un negocio global en La Yesa
DESCRIPTION:El mejor momento para emprender en lo rural es ahora. Esta sesión puede ser el inicio de tu camino hacia un proyecto innovador, conectado y global
LOCATION:La Yesa (Valencia)
URL:https://ceeivalencia.emprenemjunts.es/?op=14&n=26320
GEO:39.891216;-0.961848
END:VEVENT
END:VCALENDAR
