BEGIN:VCALENDAR
VERSION:2.0
PRODID:-//CEEI Valencia//EmprenemJunts//ES
BEGIN:VEVENT
UID:Evento_26337
DTSTAMP:20260311T092445Z
DTSTART:20260331T073000Z
DTEND:20260331T083000Z
SUMMARY:&#128421;&#65039; &#120298;&#120280;&#120277;&#120284;&#120289;&#120276;&#120293; | Por qué tu marca debería presentarse a premios (y cómo hacerlo bien)
DESCRIPTION:Una sesión organizada por el Club de Marketing del Mediterráneo junto a ComunitAD
LOCATION:
URL:https://ceeivalencia.emprenemjunts.es/?op=14&n=26337
END:VEVENT
END:VCALENDAR
