BEGIN:VCALENDAR
VERSION:2.0
PRODID:-//CEEI Valencia//EmprenemJunts//ES
BEGIN:VEVENT
UID:Evento_26398
DTSTAMP:20260323T111902Z
DTSTART:20260415T074500Z
DTEND:20260415T103000Z
SUMMARY:Fracttal: líder en software, IA, automatización y ronda millonaria - Demo Day Incibe Emprende
DESCRIPTION:Conversación con Alex Tomás de Fracttal. Incibe Emprende y CEEI Valencia organizan el Demo Day donde pitchearán las startups del programa
LOCATION:Valencia (Valencia)
URL:https://ceeivalencia.emprenemjunts.es/?op=14&n=26398
GEO:39.457817;-0.330358
END:VEVENT
END:VCALENDAR
