BEGIN:VCALENDAR
VERSION:2.0
PRODID:-//CEEI Valencia//EmprenemJunts//ES
BEGIN:VEVENT
UID:Evento_26432
DTSTAMP:20260325T133209Z
DTSTART:20260519T091000Z
DTEND:20260519T093000Z
SUMMARY:Pitch startups. Parte 1
DESCRIPTION:
LOCATION:Valencia (Valencia)
URL:https://ceeivalencia.emprenemjunts.es/?op=14&n=26432
GEO:39.453773;-0.349297
END:VEVENT
END:VCALENDAR
