BEGIN:VCALENDAR
VERSION:2.0
PRODID:-//CEEI Valencia//EmprenemJunts//ES
BEGIN:VEVENT
UID:Evento_26513
DTSTAMP:20260408T074220Z
DTSTART:20261019T230000Z
DTEND:20261020T000000Z
SUMMARY:The Gap in Between 2026: innovación y negocio con impacto en La Marina de Valencia
DESCRIPTION:Un encuentro europeo que reúne a startups, inversores y corporaciones para impulsar soluciones escalables frente a los grandes retos globales
LOCATION:Valencia (Valencia)
URL:https://ceeivalencia.emprenemjunts.es/?op=14&n=26513
GEO:39.461609;-0.329946
END:VEVENT
END:VCALENDAR
