BEGIN:VCALENDAR
VERSION:2.0
PRODID:-//CEEI Valencia//EmprenemJunts//ES
BEGIN:VEVENT
UID:Evento_26532
DTSTAMP:20260409T141107Z
DTSTART:20260505T140000Z
DTEND:20260529T150000Z
SUMMARY:Curso Especialista  Diseño y desarrollo de envase y embalaje. Ecodiseño para  Del 05 al 29 de mayo de 2026
DESCRIPTION:
LOCATION:Paterna (Valencia)
URL:https://ceeivalencia.emprenemjunts.es/?op=14&n=26532
GEO:39.549099;-0.460091
END:VEVENT
END:VCALENDAR
