BEGIN:VCALENDAR
VERSION:2.0
PRODID:-//CEEI Elche//EmprenemJunts//ES
BEGIN:VEVENT
UID:Evento_26561
DTSTAMP:20260414T185622Z
DTSTART:20260425T080000Z
DTEND:20260425T120000Z
SUMMARY:CURSO DE FOTOGRAFÍA \"Domina tu cámara\"
DESCRIPTION:Iniciación a la fotografía
LOCATION:Alacant/Alicante (Alicante)
URL:https://ceeielche.emprenemjunts.es/?op=14&n=26561
GEO:38.343670;-0.486900
END:VEVENT
END:VCALENDAR
