BEGIN:VCALENDAR
VERSION:2.0
PRODID:-//CEEI Valencia//EmprenemJunts//ES
BEGIN:VEVENT
UID:Evento_26566
DTSTAMP:20260415T083730Z
DTSTART:20260428T163000Z
DTEND:20260428T183000Z
SUMMARY:Todo lo que puedes hacer con Gemini y quizá no conoces
DESCRIPTION:El 28 de abril en Valencia
LOCATION:Valencia (Valencia)
URL:https://ceeivalencia.emprenemjunts.es/?op=14&n=26566
GEO:39.459293;-0.331269
END:VEVENT
END:VCALENDAR
