BEGIN:VCALENDAR
VERSION:2.0
PRODID:-//CEEI Valencia//EmprenemJunts//ES
BEGIN:VEVENT
UID:Evento_26595
DTSTAMP:20260420T150341Z
DTSTART:20260430T070000Z
DTEND:20260529T120000Z
SUMMARY:Dominar la Inteligencia Artificial: el paso clave para no quedarse fuera del nuevo mercado laboral
DESCRIPTION:
LOCATION:Valencia (Valencia)
URL:https://ceeivalencia.emprenemjunts.es/?op=14&n=26595
GEO:39.591114;-0.453399
END:VEVENT
END:VCALENDAR
