BEGIN:VCALENDAR
VERSION:2.0
PRODID:-//Día de la persona emprendedora//EmprenemJunts//ES
BEGIN:VEVENT
UID:Evento_5965
DTSTAMP:20130930T124300Z
DTSTART:20131119T110000Z
DTEND:20131119T120000Z
SUMMARY:CreaciÃ³n de empleo a travÃ©s de empresas de EconomÃ­a Social
DESCRIPTION:Centro de Eventos
LOCATION:Paterna/Valencia
URL:https://diadelapersonaemprendedora.emprenemjunts.es/?op=14&n=5965
END:VEVENT
END:VCALENDAR
