BEGIN:VCALENDAR
VERSION:2.0
PRODID:-//Día de la persona emprendedora//EmprenemJunts//ES
BEGIN:VEVENT
UID:Evento_5976
DTSTAMP:20130930T170700Z
DTSTART:20131119T120000Z
DTEND:20131119T130000Z
SUMMARY:Venture Capital & Private Equity, Â¿cÃ³mo financiar un proyecto innovador?
DESCRIPTION:Centro de Eventos
LOCATION:Valencia
URL:https://diadelapersonaemprendedora.emprenemjunts.es/?op=14&n=5976
END:VEVENT
END:VCALENDAR
