BEGIN:VCALENDAR
VERSION:2.0
PRODID:-//Día de la persona emprendedora//EmprenemJunts//ES
BEGIN:VEVENT
UID:Evento_5982
DTSTAMP:20130930T205500Z
DTSTART:20131119T120000Z
DTEND:20131119T130000Z
SUMMARY:El Banco de Patentes: Del laboratorio a la empresa
DESCRIPTION:Centro de Eventos
LOCATION:Valencia
URL:https://diadelapersonaemprendedora.emprenemjunts.es/?op=14&n=5982
END:VEVENT
END:VCALENDAR
