BEGIN:VCALENDAR
VERSION:2.0
PRODID:-//Día de la persona emprendedora//EmprenemJunts//ES
BEGIN:VEVENT
UID:Evento_6074
DTSTAMP:20131010T161600Z
DTSTART:20131119T100000Z
DTEND:20131119T110000Z
SUMMARY:Incentivos fiscales y administrativos para Emprendedores
DESCRIPTION:Centro de Eventos
LOCATION:Valencia
URL:https://diadelapersonaemprendedora.emprenemjunts.es/?op=14&n=6074
END:VEVENT
END:VCALENDAR
