BEGIN:VCALENDAR
VERSION:2.0
PRODID:-//Día de la persona emprendedora//EmprenemJunts//ES
BEGIN:VEVENT
UID:Evento_6090
DTSTAMP:20131012T131000Z
DTSTART:20131119T120000Z
DTEND:20131119T130000Z
SUMMARY:IGNITE #Valencia ( @IgniteVLC )
DESCRIPTION:Evento charlas ultrarrÃ¡pidas por excelencia en #DPECV2013
LOCATION:Paterna/Valencia
URL:https://diadelapersonaemprendedora.emprenemjunts.es/?op=14&n=6090
END:VEVENT
END:VCALENDAR
