BEGIN:VCALENDAR
VERSION:2.0
PRODID:-//Día de la persona emprendedora//EmprenemJunts//ES
BEGIN:VEVENT
UID:Evento_6120
DTSTAMP:20131015T104400Z
DTSTART:20131119T140000Z
DTEND:20131119T150000Z
SUMMARY:Hablar en pÃºblico para tÃ­midos
DESCRIPTION:Centro de Eventos
LOCATION:Valencia
URL:https://diadelapersonaemprendedora.emprenemjunts.es/?op=14&n=6120
END:VEVENT
END:VCALENDAR
