BEGIN:VCALENDAR
VERSION:2.0
PRODID:-//Día de la persona emprendedora//EmprenemJunts//ES
BEGIN:VEVENT
UID:Evento_6179
DTSTAMP:20131022T083600Z
DTSTART:20131119T120000Z
DTEND:20131119T130000Z
SUMMARY:Nuevas formas de financiaciÃ³n: Crowdfunding
DESCRIPTION:Centro de Eventos
LOCATION:Valencia
URL:https://diadelapersonaemprendedora.emprenemjunts.es/?op=14&n=6179
END:VEVENT
END:VCALENDAR
