BEGIN:VCALENDAR
VERSION:2.0
PRODID:-//Día de la persona emprendedora//EmprenemJunts//ES
BEGIN:VEVENT
UID:Evento_6195
DTSTAMP:20131022T170000Z
DTSTART:20131119T114500Z
DTEND:20131119T121500Z
SUMMARY:Emprender seguro: Salud laboral y prestaciones de Seguridad Social
DESCRIPTION:Centro de Eventos
LOCATION:Valencia
URL:https://diadelapersonaemprendedora.emprenemjunts.es/?op=14&n=6195
END:VEVENT
END:VCALENDAR
