BEGIN:VCALENDAR
VERSION:2.0
PRODID:-//Día de la persona emprendedora//EmprenemJunts//ES
BEGIN:VEVENT
UID:Evento_6199
DTSTAMP:20131023T101500Z
DTSTART:20131119T150000Z
DTEND:20131119T160000Z
SUMMARY:Valores y lÃ­neas de negocio en el Ã¡mbito deportivo
DESCRIPTION:Centro de Eventos 
LOCATION:Valencia
URL:https://diadelapersonaemprendedora.emprenemjunts.es/?op=14&n=6199
END:VEVENT
END:VCALENDAR
