BEGIN:VCALENDAR
VERSION:2.0
PRODID:-//Día de la persona emprendedora//EmprenemJunts//ES
BEGIN:VEVENT
UID:Evento_6233
DTSTAMP:20131024T163100Z
DTSTART:20131119T153000Z
DTEND:20131119T160000Z
SUMMARY:CÃ³mo vender en Internet y no morir en el intento
DESCRIPTION:Centro de Eventos
LOCATION:Valencia
URL:https://diadelapersonaemprendedora.emprenemjunts.es/?op=14&n=6233
END:VEVENT
END:VCALENDAR
